BEGIN:VCALENDAR
VERSION:2.0
PRODID:-//Graines de Sagesses - ECPv6.15.17.1//NONSGML v1.0//EN
CALSCALE:GREGORIAN
METHOD:PUBLISH
X-WR-CALNAME:Graines de Sagesses
X-ORIGINAL-URL:https://graines-de-sagesses.com
X-WR-CALDESC:Évènements pour Graines de Sagesses
REFRESH-INTERVAL;VALUE=DURATION:PT1H
X-Robots-Tag:noindex
X-PUBLISHED-TTL:PT1H
BEGIN:VTIMEZONE
TZID:Europe/Paris
BEGIN:DAYLIGHT
TZOFFSETFROM:+0100
TZOFFSETTO:+0200
TZNAME:CEST
DTSTART:20240331T010000
END:DAYLIGHT
BEGIN:STANDARD
TZOFFSETFROM:+0200
TZOFFSETTO:+0100
TZNAME:CET
DTSTART:20241027T010000
END:STANDARD
BEGIN:DAYLIGHT
TZOFFSETFROM:+0100
TZOFFSETTO:+0200
TZNAME:CEST
DTSTART:20250330T010000
END:DAYLIGHT
BEGIN:STANDARD
TZOFFSETFROM:+0200
TZOFFSETTO:+0100
TZNAME:CET
DTSTART:20251026T010000
END:STANDARD
BEGIN:DAYLIGHT
TZOFFSETFROM:+0100
TZOFFSETTO:+0200
TZNAME:CEST
DTSTART:20260329T010000
END:DAYLIGHT
BEGIN:STANDARD
TZOFFSETFROM:+0200
TZOFFSETTO:+0100
TZNAME:CET
DTSTART:20261025T010000
END:STANDARD
END:VTIMEZONE
BEGIN:VEVENT
DTSTART;TZID=Europe/Paris:20251202T190000
DTEND;TZID=Europe/Paris:20251202T220000
DTSTAMP:20260420T180432
CREATED:20251023T192133Z
LAST-MODIFIED:20251124T190719Z
UID:1181-1764702000-1764712800@graines-de-sagesses.com
SUMMARY:Apéro végétal gourmand: cuisine végétale et anti-inflammatoire
DESCRIPTION:La fin de l’année arrive et avec elles les moments conviviaux et les repas de fête qui font plaisir aux papilles. \nVoici un super atelier culinaire autour de l’apéro végétal gourmand afin de ne garder que le plaisir et pas la lourdeur et la culpabilité. Tous les convives seront bluffés ! \nAu programme : >>> 5 préparation végétales originales et hyper gourmandes\, avec une touche d’huile essentielle pour certaines (explosion de saveurs garantie). >>> Les super crackers sans gluten ni matière grasse (un must). >>> Les petits pains à la farine de pois chiche et aux graines de sésame (sans gluten également). \nPublic visé : Adultes débutants\, enfants admis \nNotre engagement: le respect d’une cuisine locale\, de saison\, accessible\, faite maison\, healthy\, zéro déchet. Et l’intégration du batch cooking pour se faciliter la vie.
URL:https://graines-de-sagesses.com/event/apero-vegetal-gourmand-vegetales-irresistibles-cuisine-vegetale-et-anti-inflammatoire/
LOCATION:38 Memlingdreef\, 3090 Overijse\, 38 Memlingdreef\, Overijse\, 3090
ATTACH;FMTTYPE=image/jpeg:https://graines-de-sagesses.com/wp-content/uploads/2025/10/IM4.jpeg
END:VEVENT
END:VCALENDAR