BEGIN:VCALENDAR
VERSION:2.0
PRODID:-//Graines de Sagesses - ECPv6.15.17.1//NONSGML v1.0//EN
CALSCALE:GREGORIAN
METHOD:PUBLISH
X-ORIGINAL-URL:https://graines-de-sagesses.com
X-WR-CALDESC:Évènements pour Graines de Sagesses
REFRESH-INTERVAL;VALUE=DURATION:PT1H
X-Robots-Tag:noindex
X-PUBLISHED-TTL:PT1H
BEGIN:VTIMEZONE
TZID:Europe/Paris
BEGIN:DAYLIGHT
TZOFFSETFROM:+0100
TZOFFSETTO:+0200
TZNAME:CEST
DTSTART:20250330T010000
END:DAYLIGHT
BEGIN:STANDARD
TZOFFSETFROM:+0200
TZOFFSETTO:+0100
TZNAME:CET
DTSTART:20251026T010000
END:STANDARD
BEGIN:DAYLIGHT
TZOFFSETFROM:+0100
TZOFFSETTO:+0200
TZNAME:CEST
DTSTART:20260329T010000
END:DAYLIGHT
BEGIN:STANDARD
TZOFFSETFROM:+0200
TZOFFSETTO:+0100
TZNAME:CET
DTSTART:20261025T010000
END:STANDARD
BEGIN:DAYLIGHT
TZOFFSETFROM:+0100
TZOFFSETTO:+0200
TZNAME:CEST
DTSTART:20270328T010000
END:DAYLIGHT
BEGIN:STANDARD
TZOFFSETFROM:+0200
TZOFFSETTO:+0100
TZNAME:CET
DTSTART:20271031T010000
END:STANDARD
END:VTIMEZONE
BEGIN:VEVENT
DTSTART;TZID=Europe/Paris:20260212T190000
DTEND;TZID=Europe/Paris:20260212T220000
DTSTAMP:20260420T142608
CREATED:20260206T091004Z
LAST-MODIFIED:20260206T091602Z
UID:1432-1770922800-1770933600@graines-de-sagesses.com
SUMMARY:Atelier création de bocaux lactofermentés
DESCRIPTION:À l’issue de l’atelier\, vous serez capable d’identifier les étapes clés et les erreurs à éviter ;  de préparer et monter vos propres bocaux de légumes lactofermentés ; de comprendre comment ajuster les recettes selon vos goûts ; et de conserver et déguster vos préparations dans les semaines qui suivent. \nPublic visé : Adultes débutants\, enfants admis. Aux curieux.ses de cuisine et de conservation naturelle. A celles et ceux qui veulent apprendre une technique simple à reproduire chez soi. \nNotre engagement: le respect d’une cuisine locale\, de saison\, accessible\, faite maison\, healthy\, zéro déchet. Et l’intégration du batch cooking pour se faciliter la vie.
URL:https://graines-de-sagesses.com/event/atelier-bocaux-lactofermentes/
LOCATION:38 Memlingdreef\, 3090 Overijse\, 38 Memlingdreef\, Overijse\, 3090
ATTACH;FMTTYPE=image/jpeg:https://graines-de-sagesses.com/wp-content/uploads/2026/02/lucie2.jpeg
END:VEVENT
END:VCALENDAR