BEGIN:VCALENDAR
VERSION:2.0
PRODID:-//Graines de Sagesses - ECPv6.15.17.1//NONSGML v1.0//EN
CALSCALE:GREGORIAN
METHOD:PUBLISH
X-WR-CALNAME:Graines de Sagesses
X-ORIGINAL-URL:https://graines-de-sagesses.com
X-WR-CALDESC:Évènements pour Graines de Sagesses
REFRESH-INTERVAL;VALUE=DURATION:PT1H
X-Robots-Tag:noindex
X-PUBLISHED-TTL:PT1H
BEGIN:VTIMEZONE
TZID:Europe/Paris
BEGIN:DAYLIGHT
TZOFFSETFROM:+0100
TZOFFSETTO:+0200
TZNAME:CEST
DTSTART:20250330T010000
END:DAYLIGHT
BEGIN:STANDARD
TZOFFSETFROM:+0200
TZOFFSETTO:+0100
TZNAME:CET
DTSTART:20251026T010000
END:STANDARD
BEGIN:DAYLIGHT
TZOFFSETFROM:+0100
TZOFFSETTO:+0200
TZNAME:CEST
DTSTART:20260329T010000
END:DAYLIGHT
BEGIN:STANDARD
TZOFFSETFROM:+0200
TZOFFSETTO:+0100
TZNAME:CET
DTSTART:20261025T010000
END:STANDARD
BEGIN:DAYLIGHT
TZOFFSETFROM:+0100
TZOFFSETTO:+0200
TZNAME:CEST
DTSTART:20270328T010000
END:DAYLIGHT
BEGIN:STANDARD
TZOFFSETFROM:+0200
TZOFFSETTO:+0100
TZNAME:CET
DTSTART:20271031T010000
END:STANDARD
END:VTIMEZONE
BEGIN:VEVENT
DTSTART;TZID=Europe/Paris:20260418T100000
DTEND;TZID=Europe/Paris:20260418T153000
DTSTAMP:20260420T124028
CREATED:20260312T102219Z
LAST-MODIFIED:20260312T112938Z
UID:1486-1776506400-1776526200@graines-de-sagesses.com
SUMMARY:À la rencontre de votre système digestif
DESCRIPTION:Lors de cet atelier\, je vous invite à entrer dans ce formidable espace vivant qu’est votre corps. Pas à pas\, nous prendrons le temps de rencontrer l’un de ses systèmes essentiels : le système digestif\, véritable centre de transformation et d’intégration. \nNous commencerons par explorer les croyances\, représentations et expériences que chacun entretient avec la digestion : ce que l’on “digère” bien… ou moins bien\, dans la vie comme dans le corps. \nEn savoir plus !
URL:https://graines-de-sagesses.com/event/a-la-rencontre-de-votre-systeme-digestif/
LOCATION:EquiSanté\, 33 avenue de hippodrome\, Ixelles\, 1050\, Belgium
ATTACH;FMTTYPE=image/jpeg:https://graines-de-sagesses.com/wp-content/uploads/2026/03/atelier-corps-en-tete.jpg
END:VEVENT
END:VCALENDAR