BEGIN:VCALENDAR
VERSION:2.0
PRODID:-//Graines de Sagesses - ECPv6.15.17.1//NONSGML v1.0//EN
CALSCALE:GREGORIAN
METHOD:PUBLISH
X-ORIGINAL-URL:https://graines-de-sagesses.com
X-WR-CALDESC:Évènements pour Graines de Sagesses
REFRESH-INTERVAL;VALUE=DURATION:PT1H
X-Robots-Tag:noindex
X-PUBLISHED-TTL:PT1H
BEGIN:VTIMEZONE
TZID:Europe/Paris
BEGIN:DAYLIGHT
TZOFFSETFROM:+0100
TZOFFSETTO:+0200
TZNAME:CEST
DTSTART:20250330T010000
END:DAYLIGHT
BEGIN:STANDARD
TZOFFSETFROM:+0200
TZOFFSETTO:+0100
TZNAME:CET
DTSTART:20251026T010000
END:STANDARD
BEGIN:DAYLIGHT
TZOFFSETFROM:+0100
TZOFFSETTO:+0200
TZNAME:CEST
DTSTART:20260329T010000
END:DAYLIGHT
BEGIN:STANDARD
TZOFFSETFROM:+0200
TZOFFSETTO:+0100
TZNAME:CET
DTSTART:20261025T010000
END:STANDARD
BEGIN:DAYLIGHT
TZOFFSETFROM:+0100
TZOFFSETTO:+0200
TZNAME:CEST
DTSTART:20270328T010000
END:DAYLIGHT
BEGIN:STANDARD
TZOFFSETFROM:+0200
TZOFFSETTO:+0100
TZNAME:CET
DTSTART:20271031T010000
END:STANDARD
END:VTIMEZONE
BEGIN:VEVENT
DTSTART;TZID=Europe/Paris:20260611T194500
DTEND;TZID=Europe/Paris:20260611T220000
DTSTAMP:20260424T004549
CREATED:20260421T134713Z
LAST-MODIFIED:20260421T190415Z
UID:1854-1781207100-1781215200@graines-de-sagesses.com
SUMMARY:Conférence en ligne ou en présentiel: Estime de soi : comment recréer ses limites
DESCRIPTION:On fait le point et on réajuste !\nEt si vous pouviez retrouver une relation apaisée avec vous-même ? Et si vous pouviez trouver votre juste place ? Véra Larock vous partage ses connaissances et ses pratiques issues de la kinésiologie et de la somatique énergétique pour vous aider à renouer avec votre valeur profonde\, sans vous juger\, sans vous forcer. Une soirée immersive et concrète pour explorer l’estime de soi autrement…
URL:https://graines-de-sagesses.com/event/conference-sestimer-sans-stress/
CATEGORIES:Atelier
ATTACH;FMTTYPE=image/jpeg:https://graines-de-sagesses.com/wp-content/uploads/2026/04/estimesoi.jpg
END:VEVENT
END:VCALENDAR