BEGIN:VCALENDAR
VERSION:2.0
PRODID:-//Graines de Sagesses - ECPv6.15.17.1//NONSGML v1.0//EN
CALSCALE:GREGORIAN
METHOD:PUBLISH
X-ORIGINAL-URL:https://graines-de-sagesses.com
X-WR-CALDESC:Évènements pour Graines de Sagesses
REFRESH-INTERVAL;VALUE=DURATION:PT1H
X-Robots-Tag:noindex
X-PUBLISHED-TTL:PT1H
BEGIN:VTIMEZONE
TZID:Europe/Paris
BEGIN:DAYLIGHT
TZOFFSETFROM:+0100
TZOFFSETTO:+0200
TZNAME:CEST
DTSTART:20240331T010000
END:DAYLIGHT
BEGIN:STANDARD
TZOFFSETFROM:+0200
TZOFFSETTO:+0100
TZNAME:CET
DTSTART:20241027T010000
END:STANDARD
BEGIN:DAYLIGHT
TZOFFSETFROM:+0100
TZOFFSETTO:+0200
TZNAME:CEST
DTSTART:20250330T010000
END:DAYLIGHT
BEGIN:STANDARD
TZOFFSETFROM:+0200
TZOFFSETTO:+0100
TZNAME:CET
DTSTART:20251026T010000
END:STANDARD
BEGIN:DAYLIGHT
TZOFFSETFROM:+0100
TZOFFSETTO:+0200
TZNAME:CEST
DTSTART:20260329T010000
END:DAYLIGHT
BEGIN:STANDARD
TZOFFSETFROM:+0200
TZOFFSETTO:+0100
TZNAME:CET
DTSTART:20261025T010000
END:STANDARD
END:VTIMEZONE
BEGIN:VEVENT
DTSTART;TZID=Europe/Paris:20250911T090000
DTEND;TZID=Europe/Paris:20250911T103000
DTSTAMP:20260420T215404
CREATED:20250903T100245Z
LAST-MODIFIED:20250903T100245Z
UID:900-1757581200-1757586600@graines-de-sagesses.com
SUMMARY:Makka Ho: Mouvements\, consciences du corps et étirements
DESCRIPTION:Le Makko Hô est une série de mouvements simples et accessibles à tous\, qui étirent en douceur les méridiens d’énergie du corps. Cette pratique ancestrale\, issue de la médecine orientale\, agit en profondeur sur : \n\nla souplesse articulaire et musculaire\,\nla circulation de l’énergie (Ki)\,\nla conscience corporelle\,\net l’équilibre émotionnel.\n\nChaque séance est une invitation à : écouter les signaux de votre corps\, respirer plus pleinement\, libérer les tensions physiques et psychiques\, renforcer votre ancrage et votre vitalité. \n 
URL:https://graines-de-sagesses.com/event/makka-ho-septembre/
LOCATION:EquiSanté\, 33 avenue de hippodrome\, Ixelles\, 1050\, Belgium
ATTACH;FMTTYPE=image/jpeg:https://graines-de-sagesses.com/wp-content/uploads/2025/05/makka-ho.jpg
END:VEVENT
BEGIN:VEVENT
DTSTART;TZID=Europe/Paris:20250930T200000
DTEND;TZID=Europe/Paris:20250930T213000
DTSTAMP:20260420T215404
CREATED:20250901T140057Z
LAST-MODIFIED:20250903T112503Z
UID:824-1759262400-1759267800@graines-de-sagesses.com
SUMMARY:Psychogénéalogie – Naître dans votre famille\, tout un programme !
DESCRIPTION:Chaque enfant naît dans un univers déjà marqué par des histoires\, des règles implicites et des héritages invisibles. Quels sens cela donne-t-il à notre trajectoire ? Dans cette conférence\, Magali vous propose de découvrir le concept du « projet sens » en psychogénéalogie. \n\n 
URL:https://graines-de-sagesses.com/event/psychogenealogie-naitre-dans-votre-famille-tout-un-programme/
LOCATION:EquiSanté\, 33 avenue de hippodrome\, Ixelles\, 1050\, Belgium
ATTACH;FMTTYPE=image/jpeg:https://graines-de-sagesses.com/wp-content/uploads/2025/05/constellations.jpg
END:VEVENT
END:VCALENDAR