BEGIN:VCALENDAR
VERSION:2.0
PRODID:-//Graines de Sagesses - ECPv6.15.17.1//NONSGML v1.0//EN
CALSCALE:GREGORIAN
METHOD:PUBLISH
X-ORIGINAL-URL:https://graines-de-sagesses.com
X-WR-CALDESC:Évènements pour Graines de Sagesses
REFRESH-INTERVAL;VALUE=DURATION:PT1H
X-Robots-Tag:noindex
X-PUBLISHED-TTL:PT1H
BEGIN:VTIMEZONE
TZID:Europe/Paris
BEGIN:DAYLIGHT
TZOFFSETFROM:+0100
TZOFFSETTO:+0200
TZNAME:CEST
DTSTART:20240331T010000
END:DAYLIGHT
BEGIN:STANDARD
TZOFFSETFROM:+0200
TZOFFSETTO:+0100
TZNAME:CET
DTSTART:20241027T010000
END:STANDARD
BEGIN:DAYLIGHT
TZOFFSETFROM:+0100
TZOFFSETTO:+0200
TZNAME:CEST
DTSTART:20250330T010000
END:DAYLIGHT
BEGIN:STANDARD
TZOFFSETFROM:+0200
TZOFFSETTO:+0100
TZNAME:CET
DTSTART:20251026T010000
END:STANDARD
BEGIN:DAYLIGHT
TZOFFSETFROM:+0100
TZOFFSETTO:+0200
TZNAME:CEST
DTSTART:20260329T010000
END:DAYLIGHT
BEGIN:STANDARD
TZOFFSETFROM:+0200
TZOFFSETTO:+0100
TZNAME:CET
DTSTART:20261025T010000
END:STANDARD
END:VTIMEZONE
BEGIN:VEVENT
DTSTART;TZID=Europe/Paris:20251118T190000
DTEND;TZID=Europe/Paris:20251118T220000
DTSTAMP:20260420T180526
CREATED:20251020T104828Z
LAST-MODIFIED:20251020T105109Z
UID:1144-1763492400-1763503200@graines-de-sagesses.com
SUMMARY:Quinté’sauce\, cinq sauces végétales irrésistibles: cuisine végétale et anti-inflammatoire
DESCRIPTION:Une soirée ensemble pour partager\, découvrir et apprendre à cuisiner cinq recettes créatives de sauces et de vinaigrettes végétales particulièrement addictives qui rendront vos salades et plats végétariens très gourmands. \nPublic visé : Adultes débutants\, enfants admis \nThème culinaire de l’atelier : Sauces et vinaigrettes végétales savoureuses (ex : brunch végétal\, cuisine asiatique\, apéro méditerranéen…) \nNotre engagement: le respect d’une cuisine locale\, de saison\, accessible\, faite maison\, healthy\, zéro déchet. Et l’intégration du batch cooking pour se faciliter la vie.
URL:https://graines-de-sagesses.com/event/quintesauce-cinq-sauces-vegetales-irresistibles-cuisine-vegetale-et-anti-inflammatoire/
LOCATION:The Lemon House\, 52 rue Gérard (Etterbeek)\, 52 rue Gérard\, Etterbeek\, 1140\, Belgium
ATTACH;FMTTYPE=image/jpeg:https://graines-de-sagesses.com/wp-content/uploads/2025/10/cusine-anti-inflammatoire-1.jpg
END:VEVENT
BEGIN:VEVENT
DTSTART;TZID=Europe/Paris:20251129T133000
DTEND;TZID=Europe/Paris:20251129T173000
DTSTAMP:20260420T180526
CREATED:20250903T095750Z
LAST-MODIFIED:20250903T191320Z
UID:893-1764423000-1764437400@graines-de-sagesses.com
SUMMARY:Constellation familiale: comprendre son héritage pour mieux choisir son avenir
DESCRIPTION:Certaines histoires se répètent de génération en génération. Des schémas de blocage\, des blessures affectives\, des échecs ou des impossibilités qui semblent ne pas nous appartenir…Et si ces fardeaux venaient de nos ancêtres ? \n\n 
URL:https://graines-de-sagesses.com/event/constellation-familiale-comprendre-son-heritage-pour-mieux-choisir-son-avenir/
LOCATION:EquiSanté\, 33 avenue de hippodrome\, Ixelles\, 1050\, Belgium
ATTACH;FMTTYPE=image/jpeg:https://graines-de-sagesses.com/wp-content/uploads/2025/09/heritage.jpg
END:VEVENT
END:VCALENDAR