BEGIN:VCALENDAR
VERSION:2.0
PRODID:-//Graines de Sagesses - ECPv6.15.17.1//NONSGML v1.0//EN
CALSCALE:GREGORIAN
METHOD:PUBLISH
X-ORIGINAL-URL:https://graines-de-sagesses.com
X-WR-CALDESC:Évènements pour Graines de Sagesses
REFRESH-INTERVAL;VALUE=DURATION:PT1H
X-Robots-Tag:noindex
X-PUBLISHED-TTL:PT1H
BEGIN:VTIMEZONE
TZID:Europe/Paris
BEGIN:DAYLIGHT
TZOFFSETFROM:+0100
TZOFFSETTO:+0200
TZNAME:CEST
DTSTART:20250330T010000
END:DAYLIGHT
BEGIN:STANDARD
TZOFFSETFROM:+0200
TZOFFSETTO:+0100
TZNAME:CET
DTSTART:20251026T010000
END:STANDARD
BEGIN:DAYLIGHT
TZOFFSETFROM:+0100
TZOFFSETTO:+0200
TZNAME:CEST
DTSTART:20260329T010000
END:DAYLIGHT
BEGIN:STANDARD
TZOFFSETFROM:+0200
TZOFFSETTO:+0100
TZNAME:CET
DTSTART:20261025T010000
END:STANDARD
BEGIN:DAYLIGHT
TZOFFSETFROM:+0100
TZOFFSETTO:+0200
TZNAME:CEST
DTSTART:20270328T010000
END:DAYLIGHT
BEGIN:STANDARD
TZOFFSETFROM:+0200
TZOFFSETTO:+0100
TZNAME:CET
DTSTART:20271031T010000
END:STANDARD
END:VTIMEZONE
BEGIN:VEVENT
DTSTART;TZID=Europe/Paris:20260113T190000
DTEND;TZID=Europe/Paris:20260113T220000
DTSTAMP:20260420T142350
CREATED:20251023T192342Z
LAST-MODIFIED:20251124T190535Z
UID:1184-1768330800-1768341600@graines-de-sagesses.com
SUMMARY:Soupes savoureuses et leurs toppings croustillants : cuisine végétale et anti-inflammatoire
DESCRIPTION:Viens découvrir les recettes des soupes gourmandes et comment les pimper avec des toppings pour leur donner relief\, texture et un max de gourmandise. \nPublic visé : Adultes débutants\, enfants admis \nNotre engagement: le respect d’une cuisine locale\, de saison\, accessible\, faite maison\, healthy\, zéro déchet. Et l’intégration du batch cooking pour se faciliter la vie.
URL:https://graines-de-sagesses.com/event/soupes-savoureuses-et-leurs-toppings-croustillants-vegetales-irresistibles-cuisine-vegetale-et-anti-inflammatoire/
LOCATION:The Lemon House\, 52 rue Gérard (Etterbeek)\, 52 rue Gérard\, Etterbeek\, 1140\, Belgium
ATTACH;FMTTYPE=image/jpeg:https://graines-de-sagesses.com/wp-content/uploads/2025/10/iM1.jpeg
END:VEVENT
BEGIN:VEVENT
DTSTART;TZID=Europe/Paris:20260117T093000
DTEND;TZID=Europe/Paris:20260118T173000
DTSTAMP:20260420T142350
CREATED:20250912T085745Z
LAST-MODIFIED:20251204T201004Z
UID:975-1768642200-1768757400@graines-de-sagesses.com
SUMMARY:Reiki Usui niveau 1\, formation de 2 jours
DESCRIPTION:Le Reiki Usui est une méthode japonaise de soin énergétique douce et naturelle\, fondée sur l’imposition des mains et la canalisation de l’énergie universelle. Cette formation\, animée par Alix Maréchal\, praticienne et formatrice expérimentée. \nAccessible à toutes et tous\, cette formation combine théorie\, pratique et approche intuitive\, dans un cadre bienveillant\, respectueux du rythme de chacun. \nLe Reiki\, une énergie de guérison douce et naturelle\nLe Reiki harmonise le corps\, l’esprit et les émotions en profondeur.\nIl apaise le stress\, stimule les capacités d’autoguérison et recentre l’être. \n2 jours de formation
URL:https://graines-de-sagesses.com/event/reiki-usui-niveau-1/
LOCATION:EquiSanté\, 33 avenue de hippodrome\, Ixelles\, 1050\, Belgium
ATTACH;FMTTYPE=image/jpeg:https://graines-de-sagesses.com/wp-content/uploads/2025/05/reiki.jpg
END:VEVENT
BEGIN:VEVENT
DTSTART;TZID=Europe/Paris:20260122T190000
DTEND;TZID=Europe/Paris:20260122T220000
DTSTAMP:20260420T142350
CREATED:20251219T205600Z
LAST-MODIFIED:20251221T124402Z
UID:1313-1769108400-1769119200@graines-de-sagesses.com
SUMMARY:Atelier cuisine: Petits déj' vitaminés
DESCRIPTION:Commencez la journée avec vitalité et gourmandise ! Dans cet atelier de 3 heures\, nous explorerons ensemble des recettes de petits déjeuners végétaux\, vitaminés et anti-inflammatoires\, pour nourrir votre corps avec saveur et conscience.Guidé·e·s par notre passionnée de cuisine végétale\, vous apprendrez à créer des préparations saines\, locales\, de saison et faites maison\, tout en adoptant des principes de cuisine anti-inflammatoire accessibles à tous.Un moment convivial et inspirant pour réinventer vos matins\, partager des idées et repartir avec des recettes simples à intégrer au quotidien. Amateurs de bonnes saveurs\, bienvenue ! \nPublic visé : Adultes débutants\, enfants admis \nNotre engagement: le respect d’une cuisine locale\, de saison\, accessible\, faite maison\, healthy\, zéro déchet. Et l’intégration du batch cooking pour se faciliter la vie. \nPetits déjeuners vitaminés et faciles à préparer\, pour bien commencer l’année ! Tu apprendras à faire toi même : \n\nun smoothie vitaminé\nun granola au miel\nun yaourt végétal\ndes petits pains sans gluten\nun porridge aux superfruits
URL:https://graines-de-sagesses.com/event/petits-dej-vitamines/
LOCATION:The Lemon House\, 52 rue Gérard (Etterbeek)\, 52 rue Gérard\, Etterbeek\, 1140\, Belgium
ATTACH;FMTTYPE=image/jpeg:https://graines-de-sagesses.com/wp-content/uploads/2025/12/lemon.jpeg
END:VEVENT
BEGIN:VEVENT
DTSTART;TZID=Europe/Paris:20260131T093000
DTEND;TZID=Europe/Paris:20260131T173000
DTSTAMP:20260420T142350
CREATED:20251204T203547Z
LAST-MODIFIED:20251204T203547Z
UID:1282-1769851800-1769880600@graines-de-sagesses.com
SUMMARY:Journée de Constellation Familiale : Retrouver sa Valeur
DESCRIPTION:Nous portons tous une histoire. La nôtre\, bien sûr…mais aussi celle de nos parents\, de nos ancêtres\, de lignées entières qui ont traversé des épreuves\, des silences\, des pertes ou des croyances qui ont parfois façonné notre manière d’exister. \nCertaines de ces mémoires influencent encore notre rapport à nous-mêmes :\nnotre confiance\, notre valeur personnelle\, la place que nous nous autorisons à prendre. \nCette journée de constellation familiale est une invitation à remettre de la lumière là où\, parfois\, une part de nous s’est oubliée. \n\n 
URL:https://graines-de-sagesses.com/event/journee-de-constellation-familiale-retrouver-sa-valeur/
LOCATION:EquiSanté\, 33 avenue de hippodrome\, Ixelles\, 1050\, Belgium
ATTACH;FMTTYPE=image/jpeg:https://graines-de-sagesses.com/wp-content/uploads/2025/09/heritage.jpg
END:VEVENT
END:VCALENDAR