BEGIN:VCALENDAR
VERSION:2.0
PRODID:-//Graines de Sagesses - ECPv6.15.17.1//NONSGML v1.0//EN
CALSCALE:GREGORIAN
METHOD:PUBLISH
X-ORIGINAL-URL:https://graines-de-sagesses.com
X-WR-CALDESC:Évènements pour Graines de Sagesses
REFRESH-INTERVAL;VALUE=DURATION:PT1H
X-Robots-Tag:noindex
X-PUBLISHED-TTL:PT1H
BEGIN:VTIMEZONE
TZID:Europe/Paris
BEGIN:DAYLIGHT
TZOFFSETFROM:+0100
TZOFFSETTO:+0200
TZNAME:CEST
DTSTART:20250330T010000
END:DAYLIGHT
BEGIN:STANDARD
TZOFFSETFROM:+0200
TZOFFSETTO:+0100
TZNAME:CET
DTSTART:20251026T010000
END:STANDARD
BEGIN:DAYLIGHT
TZOFFSETFROM:+0100
TZOFFSETTO:+0200
TZNAME:CEST
DTSTART:20260329T010000
END:DAYLIGHT
BEGIN:STANDARD
TZOFFSETFROM:+0200
TZOFFSETTO:+0100
TZNAME:CET
DTSTART:20261025T010000
END:STANDARD
BEGIN:DAYLIGHT
TZOFFSETFROM:+0100
TZOFFSETTO:+0200
TZNAME:CEST
DTSTART:20270328T010000
END:DAYLIGHT
BEGIN:STANDARD
TZOFFSETFROM:+0200
TZOFFSETTO:+0100
TZNAME:CET
DTSTART:20271031T010000
END:STANDARD
END:VTIMEZONE
BEGIN:VEVENT
DTSTART;TZID=Europe/Paris:20260202T190000
DTEND;TZID=Europe/Paris:20260202T220000
DTSTAMP:20260420T123238
CREATED:20260123T105329Z
LAST-MODIFIED:20260123T111305Z
UID:1387-1770058800-1770069600@graines-de-sagesses.com
SUMMARY:Atelier cuisine: Goûters & collations végé
DESCRIPTION:Un atelier cuisine spécial goûters & collations végé et sans gluten 🥰 \nDes recettes simples\, gourmandes et adaptées aux petits comme aux grands\, pour se faire plaisir sans compromis \n💚 Au menu :  \n🍋 Madeleines vanille\, pavot & citrons confits 🫐 Muffins sarrasin\, compote & myrtilles 🍪 Biscuits croustillants riz\, coco & pistache 🥖 Petits pains sans gluten (option salée) ⚡ Energy balls avoine\, dattes & noisettes 👉 Atelier pratique + dégustation \nPour qui ?  Adultes débutants\, enfants admis \n 
URL:https://graines-de-sagesses.com/event/gouters-collations-vege/
LOCATION:The Lemon House\, 52 rue Gérard (Etterbeek)\, 52 rue Gérard\, Etterbeek\, 1140\, Belgium
ATTACH;FMTTYPE=image/jpeg:https://graines-de-sagesses.com/wp-content/uploads/2026/01/snack.jpg
END:VEVENT
BEGIN:VEVENT
DTSTART;TZID=Europe/Paris:20260212T190000
DTEND;TZID=Europe/Paris:20260212T220000
DTSTAMP:20260420T123238
CREATED:20260206T091004Z
LAST-MODIFIED:20260206T091602Z
UID:1432-1770922800-1770933600@graines-de-sagesses.com
SUMMARY:Atelier création de bocaux lactofermentés
DESCRIPTION:À l’issue de l’atelier\, vous serez capable d’identifier les étapes clés et les erreurs à éviter ;  de préparer et monter vos propres bocaux de légumes lactofermentés ; de comprendre comment ajuster les recettes selon vos goûts ; et de conserver et déguster vos préparations dans les semaines qui suivent. \nPublic visé : Adultes débutants\, enfants admis. Aux curieux.ses de cuisine et de conservation naturelle. A celles et ceux qui veulent apprendre une technique simple à reproduire chez soi. \nNotre engagement: le respect d’une cuisine locale\, de saison\, accessible\, faite maison\, healthy\, zéro déchet. Et l’intégration du batch cooking pour se faciliter la vie.
URL:https://graines-de-sagesses.com/event/atelier-bocaux-lactofermentes/
LOCATION:38 Memlingdreef\, 3090 Overijse\, 38 Memlingdreef\, Overijse\, 3090
ATTACH;FMTTYPE=image/jpeg:https://graines-de-sagesses.com/wp-content/uploads/2026/02/lucie2.jpeg
END:VEVENT
BEGIN:VEVENT
DTSTART;TZID=Europe/Paris:20260228T090000
DTEND;TZID=Europe/Paris:20260301T170000
DTSTAMP:20260420T123238
CREATED:20250912T084111Z
LAST-MODIFIED:20251219T213823Z
UID:970-1772269200-1772384400@graines-de-sagesses.com
SUMMARY:Réflexologie plantaire\, formation de 2 jours
DESCRIPTION:Découvrir les bases d’une pratique naturelle et apaisante qui stimule les zones réflexes du pied pour favoriser l’équilibre du corps et le bien-être global. Accessible à tous\, elle vous permet d’apprendre les gestes essentiels pour offrir une séance de détente en toute sécurité\, dans un cadre respectueux et bienveillant. \n\n\nCompétences acquises au bout des 2 jours\n\n\n\n\n\nConnaître les grands principes de la réflexologie plantaire et ses bienfaits.\nLocaliser les principales zones réflexes et comprendre leur lien avec les fonctions du corps.\nMaîtriser les gestes de base pour mener une séance complète.\nUtiliser la réflexologie plantaire comme un outil de détente\, de soutien à la vitalité et d’équilibre énergétique.\nCréer un cadre de soin respectueux\, sécurisant et propice à la détente
URL:https://graines-de-sagesses.com/event/reflexologie-plantaire-formation-de-2-jours/
LOCATION:EquiSanté\, 33 avenue de hippodrome\, Ixelles\, 1050\, Belgium
ATTACH;FMTTYPE=image/jpeg:https://graines-de-sagesses.com/wp-content/uploads/2025/05/reflexologie-plantaire.jpg
END:VEVENT
END:VCALENDAR